BEGIN:VCALENDAR
VERSION:2.0
PRODID:-//eventon.com NONSGML v1.0//EN
BEGIN:VEVENT
UID:69e908bf450bb
DTSTAMP:20260422T194327
DTSTART:20200912T220000Z
DTEND:20200913T215900Z
LOCATION:
SUMMARY:Wallfahrt nach Barweiler
DESCRIPTION: Wallfahrt nach Barweiler
END:VEVENT
END:VCALENDAR