BEGIN:VCALENDAR
VERSION:2.0
PRODID:-//eventon.com NONSGML v1.0//EN
BEGIN:VEVENT
UID:69ebf73d3d1f8
DTSTAMP:20260425T010533
DTSTART:20200930T220000Z
DTEND:20201004T215900Z
LOCATION:
SUMMARY:Wallfahrt Matthiasbruderschaft
DESCRIPTION: Wallfahrt Matthiasbruderschaft
END:VEVENT
END:VCALENDAR